BEGIN:VCALENDAR
VERSION:2.0
PRODID:icalendar-ruby
CALSCALE:GREGORIAN
METHOD:PUBLISH
BEGIN:VEVENT
DTSTAMP:20260421T125108Z
UID:13-184010@redeemedfaithchurch.org
DTSTART:20260418T130000Z
DTEND:20260418T140000Z
CLASS:PUBLIC
CREATED:20260421T082711
DESCRIPTION:
LAST-MODIFIED:20260421T082711
LOCATION:RFC Zoom Sanctuary
SUMMARY:Breakfast\, Burnt Toast & Bible
URL;VALUE=URI:https://www.redeemedfaithchurch.org/events/breakfast-burnt-to
 ast-bible--13/2026-04-18
ATTACH;FILENAME=Breakfast-Burnt-Toast-Bible-1.png;FMTTYPE=image/png:https:/
 /dq5pwpg1q8ru0.cloudfront.net/2026/04/13/12/42/29/a1b93055-47d8-43ad-a2da-
 9306a3b3a813/Breakfast-Burnt-Toast-Bible-1.png
END:VEVENT
END:VCALENDAR
